BEGIN:VCALENDAR
VERSION:2.0
PRODID:-//hacksw/handcal//NONSGML v1.0//EN
BEGIN:VEVENT
DTSTAMP:20151228T013000Z
DTSTART:20151228T013000Z
DTEND:20151228T033000Z

SUMMARY:Trans-Siberian Orchestra 
DESCRIPTION:A holiday tradition, Trans-Siberian Orchestra brings their 2015 Winter Tour to Scottrade Center for two performances on December 27, featuring the live debut of  “The Ghosts Of Christmas Eve!”
END:VEVENT
END:VCALENDAR