BEGIN:VCALENDAR
VERSION:2.0
PRODID:-//hacksw/handcal//NONSGML v1.0//EN
BEGIN:VEVENT
DTSTAMP:20251223T210000Z
DTSTART:20251223T210000Z
DTEND:20251223T230000Z

SUMMARY:Trans-Siberian Orchestra
DESCRIPTION:Trans-Siberian Orchestra comes to Enterprise Center for two performances on December 23! This year&#39;s tour will feature an all-new production of their beloved "The Ghosts of Christmas Eve" alongside a special second set of hits and fan-favorites that includes a 25th-anniversary salute to Beethoven&#39;s Last Night. “The Ghosts of Christmas Eve: the Best of TSO and More" tour promises to continue TSO&#39;s tradition of captivating audiences nationwide with an unparalleled blend of rock, classical, and theatrical spectacle, complete with dazzling pyrotechnics, lasers, and incredible storytelling. For more details, visit www.trans-siberian.com. The 3 p.m. show is presented by 102.5 KEZK. $1 of every ticket sold for this performance will benefit Siteman Kids at St. Louis Children’s Hospital.The 7:30 p.m. show is presented by KSHE-95 and 106.5 The Arch. $1 of every ticket sold for this performance will benefit PreventED. Trans-Siberian Orchestra is offering their lowest ticket price in years, including fees*, for a limited time only - get yours now and bring the family to the ultimate rock holiday tradition.  *Additional tax may apply. While supplies last. 
END:VEVENT
END:VCALENDAR