BEGIN:VCALENDAR
VERSION:2.0
PRODID:-//hacksw/handcal//NONSGML v1.0//EN
BEGIN:VEVENT
DTSTAMP:20211231T020000Z
DTSTART:20211231T020000Z
DTEND:20211231T040000Z

SUMMARY:Trans-Siberian Orchestra
DESCRIPTION:A St. Louis holiday tradition, Trans-Siberian Orchestra, returns to Enterprise Center for two performances on December 30!
END:VEVENT
END:VCALENDAR