BEGIN:VCALENDAR
VERSION:2.0
PRODID:-//hacksw/handcal//NONSGML v1.0//EN
BEGIN:VEVENT
DTSTAMP:20261108T010000Z
DTSTART:20261108T010000Z
DTEND:20261108T030000Z

SUMMARY:Three Days Grace
DESCRIPTION:Three Days Grace’s Λ𝖫𝖨𝖤𝖭Λ𝖳𝖨Ø𝖭 𝖳ØUR comes to Enterprise Center on Saturday, Nov. 7, 2026 with special guests I Prevail and The Funeral Portrait!
END:VEVENT
END:VCALENDAR