BEGIN:VCALENDAR
VERSION:2.0
PRODID:-//hacksw/handcal//NONSGML v1.0//EN
BEGIN:VEVENT
DTSTAMP:20221015T003000Z
DTSTART:20221015T003000Z
DTEND:20221015T023000Z

SUMMARY:The Who
DESCRIPTION:The Who, with special guest Mike Campbell and The Dirty Knobs, is heading out on The Who Hits Back! Tour on October 14 at Enterprise Center presented by KSHE 95!
END:VEVENT
END:VCALENDAR