BEGIN:VCALENDAR
VERSION:2.0
PRODID:-//hacksw/handcal//NONSGML v1.0//EN
BEGIN:VEVENT
DTSTAMP:20190328T010000Z
DTSTART:20190328T010000Z
DTEND:20190328T030000Z

SUMMARY:The Millennium Tour
DESCRIPTION:Multi-platinum R&B group B2K (Omarion, Boog, Fizz and Raz-B), bring their limited engagement “The Millennium Tour” along with R&B crooner, Mario to Enterprise Center March 27. Also scheduled to perform; Pretty Ricky, Lloyd, Ying Yang Twins, Chingy, and Bobby V. Don’t miss the Millennial concert party of the year.
END:VEVENT
END:VCALENDAR