BEGIN:VCALENDAR
VERSION:2.0
PRODID:-//hacksw/handcal//NONSGML v1.0//EN
BEGIN:VEVENT
DTSTAMP:20220109T010000Z
DTSTART:20220109T010000Z
DTEND:20220109T030000Z

SUMMARY:The Harlem Globetrotters
DESCRIPTION:The World-Famous Harlem Globetrotters are bringing their newly reimagined Spread Game tour to Enterprise Center on Saturday, Jan. 8!The Spread Game Tour is a basketball event like no other. Ankle-breaking moves, jaw-dropping swag, and rim-rattling dunks are only some of the thrill you can expect from this fully modernized show. Part streetball from the players who defined it, part interactive family entertainment, the new tour will show off the best of the Globetrotters in a dazzling exhibition of talent and game.The Spread Game Tour introduces new premium fan experiences with unprecedented access and interaction, including celebrity court passes, meet and greets with players, and the #SQUADZONE, where fans have the opportunity to feel like part of the show.
END:VEVENT
END:VCALENDAR