BEGIN:VCALENDAR
VERSION:2.0
PRODID:-//hacksw/handcal//NONSGML v1.0//EN
BEGIN:VEVENT
DTSTAMP:20190701T003000Z
DTSTART:20190701T003000Z
DTEND:20190701T023000Z

SUMMARY:Shawn Mendes
DESCRIPTION:Shawn Mendes comes to Enterprise Center on June 30 with special guest Alessia Cara!
END:VEVENT
END:VCALENDAR