BEGIN:VCALENDAR
VERSION:2.0
PRODID:-//hacksw/handcal//NONSGML v1.0//EN
BEGIN:VEVENT
DTSTAMP:20221204T004500Z
DTSTART:20221204T004500Z
DTEND:20221204T024500Z

SUMMARY:PBR: Unleash the Beast
DESCRIPTION:Previously scheduled for Dec. 2-3, the PBR St. Louis Invitational will now be held Dec. 3-4 at Enterprise Center.The PBR (Professional Bull Riders) announced on Aug. 19, 2022, a new date for the previously announced Unleash The Beast event to be held this December at Enterprise Center. Initially scheduled for Dec. 2-3, the PBR St. Louis Invitational will now be held Dec. 3-4.Action will begin at 6:45 p.m. on Saturday, Dec. 3 and 1:45 p.m. on Sunday, Dec. 4.Fans who purchased single-day or combo tickets through Ticketmaster for the Friday, Dec. 2 PBR St. Louis Invitational will automatically be moved to Sunday, Dec. 4.If fans are unable to attend the new Sunday, Dec. 4 event with single-day or combo tickets, a refund may be requested at the point of purchase.PBR would like to thank their fans for understanding and can’t wait to see them at the invitational!  
END:VEVENT
END:VCALENDAR