BEGIN:VCALENDAR
VERSION:2.0
PRODID:-//hacksw/handcal//NONSGML v1.0//EN
BEGIN:VEVENT
DTSTAMP:20231119T013000Z
DTSTART:20231119T013000Z
DTEND:20231119T033000Z

SUMMARY:Old Dominion
DESCRIPTION:Old Dominion bring their No Bad Vibes Tour to Enterprise Center on November 18 with special guests Chase Rice and Kylie Morgan!
END:VEVENT
END:VCALENDAR