BEGIN:VCALENDAR
VERSION:2.0
PRODID:-//hacksw/handcal//NONSGML v1.0//EN
BEGIN:VEVENT
DTSTAMP:20220515T010000Z
DTSTART:20220515T010000Z
DTEND:20220515T030000Z

SUMMARY:New Kids on the Block
DESCRIPTION:New Kids on the Block bring their Mixtape Tour 2022 to Enterprise Center on May 14 with legendary guests Salt-N-Pepa, Rick Astley and En Vogue!
END:VEVENT
END:VCALENDAR