BEGIN:VCALENDAR
VERSION:2.0
PRODID:-//hacksw/handcal//NONSGML v1.0//EN
BEGIN:VEVENT
DTSTAMP:20180914T003000Z
DTSTART:20180914T003000Z
DTEND:20180914T033000Z

SUMMARY:Maroon 5
DESCRIPTION:Maroon 5 brings their &#39;Red Pill Blues Tour&#39; to Enterprise Center on September 13th, 2018!
END:VEVENT
END:VCALENDAR