BEGIN:VCALENDAR
VERSION:2.0
PRODID:-//hacksw/handcal//NONSGML v1.0//EN
BEGIN:VEVENT
DTSTAMP:20150507T000000Z
DTSTART:20150507T000000Z
DTEND:20150507T020000Z

SUMMARY:Kenny Chesney
DESCRIPTION:Kenny Chesney brings The Big Revival Tour to Scottrade Center May 6 with special guests Jake Owen and Chase Rice!
END:VEVENT
END:VCALENDAR