BEGIN:VCALENDAR
VERSION:2.0
PRODID:-//hacksw/handcal//NONSGML v1.0//EN
BEGIN:VEVENT
DTSTAMP:20211124T230000Z
DTSTART:20211124T230000Z
DTEND:20211125T010000Z

SUMMARY:Guns N Hoses
DESCRIPTION:A Thanksgiving Eve tradition continues on Wednesday, November 24 with the Budweiser Guns N Hoses boxing event!Founded in 1987, Budweiser Guns ‘N Hoses is a fundraising event, consisting of three-round boxing matches between area police officers and firefighters, and held to benefit The BackStoppers.  
END:VEVENT
END:VCALENDAR