BEGIN:VCALENDAR
VERSION:2.0
PRODID:-//hacksw/handcal//NONSGML v1.0//EN
BEGIN:VEVENT
DTSTAMP:20211016T003000Z
DTSTART:20211016T003000Z
DTEND:20211016T033000Z

SUMMARY:Gold Over America Tour
DESCRIPTION:Straight from the world stage, the best gymnasts in the U.S. featuring the most decorated gymnast of all-time, Simone Biles, will headline the Athleta Presents Gold Over America Tour coming to Enterprise Center on October 15.  Biles, who medaled with silver for team competition and bronze for the balance beam, will be joined by her teammates Jade Carey who won gold in floor exercise, Jordan Chiles and Grace McCallum who won silver for team competition and MyKayla Skinner who won silver in vault.  Gold Over America Tour brings all the excitement of a gymnastics competition to hometown arenas nightly as each gymnast performs some of their most famous routines mixed with career highlights, personal videos and social media interactions. The show is a high-energy, gymnastics-meets-pop-concert spectacular that will visit 35 North American cities this fall. Other participants include 2016 gold and silver medalist in Rio and Dancing With The Stars champion Laurie Hernandez, All-American, NCAA National Champion and viral video sensation Katelyn Ohashi, winner of three gold medals in 2019 and 2020 at the Tokyo World Cup Morgan Hurd, elite gymnast Shilese Jones, former USA Gymnastics Women&#39;s Athlete of the Year Chellsie Memmel, 2021 French Olympian Melanie De Jesus dos Santos and 2018 NCAA National Champion from UCLA where she achieved 10 perfect 10’s Peng-Peng Lee. GYMNASTICS CLUBSA special gymnastics club sales program starts February 17, 2021. Please contact the Enterprise Center group sales department at 314-622-2583 or groupsales@enterprisecenter.com for more information. PREMIUM & VIP EXPERIENCESFor more information on the Gold Over America Tour premium and VIP experiences click here. 
END:VEVENT
END:VCALENDAR