BEGIN:VCALENDAR
VERSION:2.0
PRODID:-//hacksw/handcal//NONSGML v1.0//EN
BEGIN:VEVENT
DTSTAMP:20181006T010000Z
DTSTART:20181006T010000Z
DTEND:20181006T030000Z

SUMMARY:Game of Thrones Live Concert Experience
DESCRIPTION:Game of Thrones Live Concert Experience comes to Enterprise Center on October 5, 2018!
END:VEVENT
END:VCALENDAR