BEGIN:VCALENDAR
VERSION:2.0
PRODID:-//hacksw/handcal//NONSGML v1.0//EN
BEGIN:VEVENT
DTSTAMP:20220710T000000Z
DTSTART:20220710T000000Z
DTEND:20220710T020000Z

SUMMARY:Dude Perfect
DESCRIPTION:Dude Perfect – That’s Happy Tour 2022 – comes to Enterprise Center on Saturday, July 9!
END:VEVENT
END:VCALENDAR