BEGIN:VCALENDAR
VERSION:2.0
PRODID:-//hacksw/handcal//NONSGML v1.0//EN
BEGIN:VEVENT
DTSTAMP:20220422T010000Z
DTSTART:20220422T010000Z
DTEND:20220422T030000Z

SUMMARY:Bon Jovi
DESCRIPTION:Bon Jovi brings their 2022 Tour to Enterprise Center on April 21!The Bon Jovi tour is excited to be offering a variety of VIP packages for each show! These packages include the BEST tickets available and may also provide access to the official "Bed of Rosés" VIP Brunch Experience, an autographed take-home chair, a chance to win a signed Jon Bon Jovi guitar, a Bon Jovi wine accessory set, crowd-free shopping, priority entry, and a selection of other exclusive VIP merchandise and on-site benefits! For full VIP package details, please go to www.bonjovi.com. 
END:VEVENT
END:VCALENDAR