BEGIN:VCALENDAR
VERSION:2.0
PRODID:-//hacksw/handcal//NONSGML v1.0//EN
BEGIN:VEVENT
DTSTAMP:20260310T233000Z
DTSTART:20260310T233000Z
DTEND:20260311T013000Z

SUMMARY:Blues vs. Islanders
DESCRIPTION:
END:VEVENT
END:VCALENDAR