BEGIN:VCALENDAR
VERSION:2.0
PRODID:-//hacksw/handcal//NONSGML v1.0//EN
BEGIN:VEVENT
DTSTAMP:20221118T010000Z
DTSTART:20221118T010000Z
DTEND:20221118T030000Z

SUMMARY:Blues vs. Capitals
DESCRIPTION:
END:VEVENT
END:VCALENDAR