BEGIN:VCALENDAR
VERSION:2.0
PRODID:-//hacksw/handcal//NONSGML v1.0//EN
BEGIN:VEVENT
DTSTAMP:20151107T020000Z
DTSTART:20151107T020000Z
DTEND:20151107T050000Z

SUMMARY:Bellator MMA
DESCRIPTION:Bellator MMA’s Featherweight Championship will be defended in a trilogy contest between incumbent titlist Patricio “Pitbull” Freire (24-2) and former champion Daniel Straus (23-6, 1 NC) when the two square off in the main event of “Bellator 145: Vengeance” at Scottrade Center on November 6.In a fight also worthy of main event billing, Will “Ill Will” Brooks (16-1) will look to defend his 155-pound belt when he meets submission specialist Marcin Held (21-3). Fans attending “Bellator 145: Vengeance” will also be treated to lightweight Michael Chandler (13-3) and heavyweight Bobby “The Dominator” Lashley (13-2) in action inside the Bellator MMA cage. Opponents for both competitors will be announced in the coming weeks.
END:VEVENT
END:VCALENDAR