BEGIN:VCALENDAR
VERSION:2.0
PRODID:-//hacksw/handcal//NONSGML v1.0//EN
BEGIN:VEVENT
DTSTAMP:20181021T010000Z
DTSTART:20181021T010000Z
DTEND:20181021T030000Z

SUMMARY:An Evening with Fleetwood Mac
DESCRIPTION:An Evening with Fleetwood Mac comes to Enterprise Center on Saturday, October 20!
END:VEVENT
END:VCALENDAR